Package: tadar
Version: 1.4.0
Command: rm -rf tadar.buildbin-libdir && mkdir tadar.buildbin-libdir && /Users/biocbuild/BBS/utils/build-universal.sh tadar_1.4.0.tar.gz /Library/Frameworks/R.framework/Resources/bin/R tadar.buildbin-libdir
StartedAt: 2025-02-18 13:14:13 -0500 (Tue, 18 Feb 2025)
EndedAt: 2025-02-18 13:17:09 -0500 (Tue, 18 Feb 2025)
EllapsedTime: 175.8 seconds
RetCode: 0
Status: OK
PackageFile: tadar_1.4.0.tgz
PackageFileSize: 1.488 <A href="http://en.wikipedia.org/wiki/MiB" target="_blank">MiB</A>