Package: tadar Version: 1.4.0 Command: /Library/Frameworks/R.framework/Resources/bin/R CMD build --keep-empty-dirs --no-resave-data tadar StartedAt: 2025-02-03 22:49:46 -0500 (Mon, 03 Feb 2025) EndedAt: 2025-02-03 22:53:00 -0500 (Mon, 03 Feb 2025) EllapsedTime: 194.8 seconds RetCode: 0 Status: OK PackageFile: tadar_1.4.0.tar.gz PackageFileSize: 1.721 MiB