Package: tadar Version: 1.4.0 Command: F:\biocbuild\bbs-3.20-bioc\R\bin\R.exe CMD check --no-multiarch --install=check:tadar.install-out.txt --library=F:\biocbuild\bbs-3.20-bioc\R\library --no-vignettes --timings tadar_1.4.0.tar.gz StartedAt: 2025-02-04 06:56:38 -0500 (Tue, 04 Feb 2025) EndedAt: 2025-02-04 07:05:36 -0500 (Tue, 04 Feb 2025) EllapsedTime: 537.3 seconds RetCode: 0 Status: OK CheckDir: tadar.Rcheck Warnings: 0