Package: tanggle
Version: 1.12.0
Command: rm -rf tanggle.buildbin-libdir && mkdir tanggle.buildbin-libdir && /Users/biocbuild/BBS/utils/build-universal.sh tanggle_1.12.0.tar.gz /Library/Frameworks/R.framework/Resources/bin/R tanggle.buildbin-libdir
StartedAt: 2025-02-18 13:14:23 -0500 (Tue, 18 Feb 2025)
EndedAt: 2025-02-18 13:14:44 -0500 (Tue, 18 Feb 2025)
EllapsedTime: 20.8 seconds
RetCode: 0
Status: OK
PackageFile: tanggle_1.12.0.tgz
PackageFileSize: 1.911 <A href="http://en.wikipedia.org/wiki/MiB" target="_blank">MiB</A>