Package: tanggle Version: 1.12.0 Command: /Library/Frameworks/R.framework/Resources/bin/R CMD build --keep-empty-dirs --no-resave-data tanggle StartedAt: 2025-02-03 22:49:53 -0500 (Mon, 03 Feb 2025) EndedAt: 2025-02-03 22:50:39 -0500 (Mon, 03 Feb 2025) EllapsedTime: 46.4 seconds RetCode: 0 Status: OK PackageFile: tanggle_1.12.0.tar.gz PackageFileSize: 1.897 MiB