Package: tanggle Version: 1.12.0 Command: /home/biocbuild/R/R/bin/R CMD build --keep-empty-dirs --no-resave-data tanggle StartedAt: 2025-02-04 03:27:31 -0000 (Tue, 04 Feb 2025) EndedAt: 2025-02-04 03:28:09 -0000 (Tue, 04 Feb 2025) EllapsedTime: 38.0 seconds RetCode: 0 Status: OK PackageFile: tanggle_1.12.0.tar.gz PackageFileSize: 1.414 MiB