Package: target
Version: 1.20.0
Command: /Library/Frameworks/R.framework/Resources/bin/R CMD check --install=check:target.install-out.txt --library=/Library/Frameworks/R.framework/Resources/library --no-vignettes --timings target_1.20.0.tar.gz
StartedAt: 2025-02-18 10:24:58 -0500 (Tue, 18 Feb 2025)
EndedAt: 2025-02-18 10:27:50 -0500 (Tue, 18 Feb 2025)
EllapsedTime: 171.7 seconds
RetCode: 0
Status: OK
CheckDir: target.Rcheck
Warnings: 0