Package: target Version: 1.20.0 Command: /home/biocbuild/R/R/bin/R CMD INSTALL target StartedAt: 2025-02-03 21:14:58 -0000 (Mon, 03 Feb 2025) EndedAt: 2025-02-03 21:15:12 -0000 (Mon, 03 Feb 2025) EllapsedTime: 13.6 seconds RetCode: 0 Status: OK