Package: ternarynet Version: 1.50.0 Command: rm -rf ternarynet.buildbin-libdir && mkdir ternarynet.buildbin-libdir && /Users/biocbuild/BBS/utils/build-universal.sh ternarynet_1.50.0.tar.gz /Library/Frameworks/R.framework/Resources/bin/R ternarynet.buildbin-libdir StartedAt: 2025-02-01 17:10:13 -0500 (Sat, 01 Feb 2025) EndedAt: 2025-02-01 17:10:25 -0500 (Sat, 01 Feb 2025) EllapsedTime: 12.3 seconds RetCode: 0 Status: OK PackageFile: ternarynet_1.50.0.tgz PackageFileSize: 567.9 KiB