Package: ternarynet Version: 1.50.0 Command: /Library/Frameworks/R.framework/Resources/bin/R CMD build --keep-empty-dirs --no-resave-data ternarynet StartedAt: 2025-01-31 09:24:58 -0500 (Fri, 31 Jan 2025) EndedAt: 2025-01-31 09:25:16 -0500 (Fri, 31 Jan 2025) EllapsedTime: 18.1 seconds RetCode: 0 Status: OK PackageFile: ternarynet_1.50.0.tar.gz PackageFileSize: 268 KiB