Package: ternarynet Version: 1.50.0 Command: /Library/Frameworks/R.framework/Resources/bin/R CMD INSTALL ternarynet StartedAt: 2025-01-30 15:47:52 -0500 (Thu, 30 Jan 2025) EndedAt: 2025-01-30 15:48:02 -0500 (Thu, 30 Jan 2025) EllapsedTime: 10.4 seconds RetCode: 0 Status: OK