Package: ternarynet Version: 1.50.0 Command: rm -rf ternarynet.buildbin-libdir && mkdir ternarynet.buildbin-libdir && /Users/biocbuild/BBS/utils/build-universal.sh ternarynet_1.50.0.tar.gz /Library/Frameworks/R.framework/Resources/bin/R ternarynet.buildbin-libdir StartedAt: 2024-11-20 04:55:28 -0500 (Wed, 20 Nov 2024) EndedAt: 2024-11-20 04:55:45 -0500 (Wed, 20 Nov 2024) EllapsedTime: 17.5 seconds RetCode: 0 Status: OK PackageFile: ternarynet_1.50.0.tgz PackageFileSize: 572.3 KiB