Package: ternarynet Version: 1.50.0 Command: rm -rf ternarynet.buildbin-libdir && mkdir ternarynet.buildbin-libdir && /Users/biocbuild/BBS/utils/build-universal.sh ternarynet_1.50.0.tar.gz /Library/Frameworks/R.framework/Resources/bin/R ternarynet.buildbin-libdir StartedAt: 2025-01-31 13:50:31 -0500 (Fri, 31 Jan 2025) EndedAt: 2025-01-31 13:50:56 -0500 (Fri, 31 Jan 2025) EllapsedTime: 25.0 seconds RetCode: 0 Status: OK PackageFile: ternarynet_1.50.0.tgz PackageFileSize: 572.7 KiB