Package: ternarynet Version: 1.50.0 Command: /Library/Frameworks/R.framework/Resources/bin/R CMD build --keep-empty-dirs --no-resave-data ternarynet StartedAt: 2025-01-30 23:24:02 -0500 (Thu, 30 Jan 2025) EndedAt: 2025-01-30 23:24:36 -0500 (Thu, 30 Jan 2025) EllapsedTime: 33.8 seconds RetCode: 0 Status: OK PackageFile: ternarynet_1.50.0.tar.gz PackageFileSize: 267.9 KiB