Package: ternarynet Version: 1.50.0 Command: /Library/Frameworks/R.framework/Resources/bin/R CMD INSTALL ternarynet StartedAt: 2025-01-30 15:28:09 -0500 (Thu, 30 Jan 2025) EndedAt: 2025-01-30 15:28:31 -0500 (Thu, 30 Jan 2025) EllapsedTime: 21.8 seconds RetCode: 0 Status: OK