Package: ternarynet Version: 1.50.0 Command: /home/biocbuild/bbs-3.20-bioc/R/bin/R CMD check --install=check:ternarynet.install-out.txt --library=/home/biocbuild/bbs-3.20-bioc/R/site-library --timings ternarynet_1.50.0.tar.gz StartedAt: 2025-01-31 02:58:01 -0500 (Fri, 31 Jan 2025) EndedAt: 2025-01-31 02:58:46 -0500 (Fri, 31 Jan 2025) EllapsedTime: 45.0 seconds RetCode: 0 Status: OK CheckDir: ternarynet.Rcheck Warnings: 0