Package: ternarynet Version: 1.50.0 Command: chmod a+r ternarynet -R && F:\biocbuild\bbs-3.20-bioc\R\bin\R.exe CMD build --keep-empty-dirs --no-resave-data ternarynet StartedAt: 2025-01-30 22:17:03 -0500 (Thu, 30 Jan 2025) EndedAt: 2025-01-30 22:17:55 -0500 (Thu, 30 Jan 2025) EllapsedTime: 51.9 seconds RetCode: 0 Status: OK PackageFile: ternarynet_1.50.0.tar.gz PackageFileSize: 150.5 KiB