Package: ternarynet Version: 1.50.0 Command: /home/biocbuild/R/R/bin/R CMD build --keep-empty-dirs --no-resave-data ternarynet StartedAt: 2025-01-31 03:09:29 -0000 (Fri, 31 Jan 2025) EndedAt: 2025-01-31 03:09:44 -0000 (Fri, 31 Jan 2025) EllapsedTime: 15.0 seconds RetCode: 0 Status: OK PackageFile: ternarynet_1.50.0.tar.gz PackageFileSize: 259.5 KiB