Package: ternarynet Version: 1.50.0 Command: /home/biocbuild/bbs-3.20-bioc/R/bin/R CMD check --install=check:ternarynet.install-out.txt --library=/home/biocbuild/bbs-3.20-bioc/R/site-library --timings ternarynet_1.50.0.tar.gz StartedAt: 2024-11-20 10:38:48 -0500 (Wed, 20 Nov 2024) EndedAt: 2024-11-20 10:39:19 -0500 (Wed, 20 Nov 2024) EllapsedTime: 31.0 seconds RetCode: 0 Status: OK CheckDir: ternarynet.Rcheck Warnings: 0