Package: tidyCoverage Version: 1.2.0 Command: rm -rf tidyCoverage.buildbin-libdir && mkdir tidyCoverage.buildbin-libdir && /Users/biocbuild/BBS/utils/build-universal.sh tidyCoverage_1.2.0.tar.gz /Library/Frameworks/R.framework/Resources/bin/R tidyCoverage.buildbin-libdir StartedAt: 2025-02-12 17:20:02 -0500 (Wed, 12 Feb 2025) EndedAt: 2025-02-12 17:20:46 -0500 (Wed, 12 Feb 2025) EllapsedTime: 44.1 seconds RetCode: 0 Status: OK PackageFile: tidyCoverage_1.2.0.tgz PackageFileSize: 4.206 MiB