Package: tidyCoverage Version: 1.2.0 Command: /Library/Frameworks/R.framework/Resources/bin/R CMD build --keep-empty-dirs --no-resave-data tidyCoverage StartedAt: 2025-02-04 09:43:04 -0500 (Tue, 04 Feb 2025) EndedAt: 2025-02-04 09:46:41 -0500 (Tue, 04 Feb 2025) EllapsedTime: 217.0 seconds RetCode: 0 Status: OK PackageFile: tidyCoverage_1.2.0.tar.gz PackageFileSize: 3.896 MiB