Package: tidyCoverage Version: 1.2.0 Command: /Library/Frameworks/R.framework/Resources/bin/R CMD check --install=check:tidyCoverage.install-out.txt --library=/Library/Frameworks/R.framework/Resources/library --no-vignettes --timings tidyCoverage_1.2.0.tar.gz StartedAt: 2025-02-05 12:48:14 -0500 (Wed, 05 Feb 2025) EndedAt: 2025-02-05 12:54:14 -0500 (Wed, 05 Feb 2025) EllapsedTime: 360.5 seconds RetCode: 0 Status: OK CheckDir: tidyCoverage.Rcheck Warnings: 0