Package: tidyCoverage Version: 1.2.0 Command: /home/biocbuild/bbs-3.20-bioc/R/bin/R CMD build --keep-empty-dirs --no-resave-data --md5 tidyCoverage StartedAt: 2025-02-03 19:37:38 -0500 (Mon, 03 Feb 2025) EndedAt: 2025-02-03 19:40:24 -0500 (Mon, 03 Feb 2025) EllapsedTime: 166.2 seconds RetCode: 0 Status: OK PackageFile: tidyCoverage_1.2.0.tar.gz PackageFileSize: 3.735 MiB