Package: tidyCoverage Version: 1.2.0 Command: /home/biocbuild/bbs-3.20-bioc/R/bin/R CMD INSTALL tidyCoverage StartedAt: 2025-02-10 15:26:26 -0500 (Mon, 10 Feb 2025) EndedAt: 2025-02-10 15:26:58 -0500 (Mon, 10 Feb 2025) EllapsedTime: 32.4 seconds RetCode: 0 Status: OK