Package: tidyCoverage Version: 1.2.0 Command: chmod a+r tidyCoverage -R && F:\biocbuild\bbs-3.20-bioc\R\bin\R.exe CMD build --keep-empty-dirs --no-resave-data tidyCoverage StartedAt: 2025-02-03 22:35:19 -0500 (Mon, 03 Feb 2025) EndedAt: 2025-02-03 22:42:47 -0500 (Mon, 03 Feb 2025) EllapsedTime: 447.9 seconds RetCode: 0 Status: OK PackageFile: tidyCoverage_1.2.0.tar.gz PackageFileSize: 3.758 MiB