Package: tidyCoverage Version: 1.2.0 Command: F:\biocbuild\bbs-3.20-bioc\R\bin\R.exe CMD INSTALL tidyCoverage StartedAt: 2025-02-03 16:29:49 -0500 (Mon, 03 Feb 2025) EndedAt: 2025-02-03 16:30:54 -0500 (Mon, 03 Feb 2025) EllapsedTime: 64.4 seconds RetCode: 0 Status: OK