Package: tidyCoverage Version: 1.2.0 Command: /home/biocbuild/R/R/bin/R CMD check --install=check:tidyCoverage.install-out.txt --library=/home/biocbuild/R/R/site-library --no-vignettes --timings tidyCoverage_1.2.0.tar.gz StartedAt: 2025-02-11 11:04:47 -0000 (Tue, 11 Feb 2025) EndedAt: 2025-02-11 11:11:12 -0000 (Tue, 11 Feb 2025) EllapsedTime: 385.5 seconds RetCode: 0 Status: OK CheckDir: tidyCoverage.Rcheck Warnings: 0