Package: tidyCoverage Version: 1.2.0 Command: /home/biocbuild/R/R/bin/R CMD INSTALL tidyCoverage StartedAt: 2025-02-03 20:39:26 -0000 (Mon, 03 Feb 2025) EndedAt: 2025-02-03 20:40:07 -0000 (Mon, 03 Feb 2025) EllapsedTime: 41.9 seconds RetCode: 0 Status: OK