Package: tidyFlowCore Version: 1.0.0 Command: rm -rf tidyFlowCore.buildbin-libdir && mkdir tidyFlowCore.buildbin-libdir && /Users/biocbuild/BBS/utils/build-universal.sh tidyFlowCore_1.0.0.tar.gz /Library/Frameworks/R.framework/Resources/bin/R tidyFlowCore.buildbin-libdir StartedAt: 2025-02-05 18:06:39 -0500 (Wed, 05 Feb 2025) EndedAt: 2025-02-05 18:06:51 -0500 (Wed, 05 Feb 2025) EllapsedTime: 12.3 seconds RetCode: 0 Status: OK PackageFile: tidyFlowCore_1.0.0.tgz PackageFileSize: 918.8 KiB