Package: tidyFlowCore Version: 1.0.0 Command: /Library/Frameworks/R.framework/Resources/bin/R CMD build --keep-empty-dirs --no-resave-data tidyFlowCore StartedAt: 2025-02-04 09:43:09 -0500 (Tue, 04 Feb 2025) EndedAt: 2025-02-04 09:44:21 -0500 (Tue, 04 Feb 2025) EllapsedTime: 71.6 seconds RetCode: 0 Status: OK PackageFile: tidyFlowCore_1.0.0.tar.gz PackageFileSize: 780.2 KiB