Package: tidyFlowCore Version: 1.0.0 Command: /Library/Frameworks/R.framework/Resources/bin/R CMD check --install=check:tidyFlowCore.install-out.txt --library=/Library/Frameworks/R.framework/Resources/library --no-vignettes --timings tidyFlowCore_1.0.0.tar.gz StartedAt: 2025-02-05 12:48:55 -0500 (Wed, 05 Feb 2025) EndedAt: 2025-02-05 12:50:31 -0500 (Wed, 05 Feb 2025) EllapsedTime: 95.7 seconds RetCode: 0 Status: OK CheckDir: tidyFlowCore.Rcheck Warnings: 0