Package: tidyFlowCore Version: 1.0.0 Command: /Library/Frameworks/R.framework/Resources/bin/R CMD INSTALL tidyFlowCore StartedAt: 2025-02-03 15:31:06 -0500 (Mon, 03 Feb 2025) EndedAt: 2025-02-03 15:31:27 -0500 (Mon, 03 Feb 2025) EllapsedTime: 20.8 seconds RetCode: 0 Status: OK