Package: tidyFlowCore Version: 1.0.0 Command: rm -rf tidyFlowCore.buildbin-libdir && mkdir tidyFlowCore.buildbin-libdir && F:\biocbuild\bbs-3.20-bioc\R\bin\R.exe CMD INSTALL --build --library=tidyFlowCore.buildbin-libdir tidyFlowCore_1.0.0.tar.gz StartedAt: 2025-02-04 09:40:32 -0500 (Tue, 04 Feb 2025) EndedAt: 2025-02-04 09:41:10 -0500 (Tue, 04 Feb 2025) EllapsedTime: 38.3 seconds RetCode: 0 Status: OK PackageFile: tidyFlowCore_1.0.0.zip PackageFileSize: 788.1 KiB