Package: tidyFlowCore Version: 1.0.0 Command: chmod a+r tidyFlowCore -R && F:\biocbuild\bbs-3.20-bioc\R\bin\R.exe CMD build --keep-empty-dirs --no-resave-data tidyFlowCore StartedAt: 2025-02-03 22:35:24 -0500 (Mon, 03 Feb 2025) EndedAt: 2025-02-03 22:37:40 -0500 (Mon, 03 Feb 2025) EllapsedTime: 136.5 seconds RetCode: 0 Status: OK PackageFile: tidyFlowCore_1.0.0.tar.gz PackageFileSize: 644.4 KiB