Package: tidyFlowCore Version: 1.0.0 Command: F:\biocbuild\bbs-3.20-bioc\R\bin\R.exe CMD check --no-multiarch --install=check:tidyFlowCore.install-out.txt --library=F:\biocbuild\bbs-3.20-bioc\R\library --no-vignettes --timings tidyFlowCore_1.0.0.tar.gz StartedAt: 2025-02-04 07:02:03 -0500 (Tue, 04 Feb 2025) EndedAt: 2025-02-04 07:04:09 -0500 (Tue, 04 Feb 2025) EllapsedTime: 126.4 seconds RetCode: 0 Status: OK CheckDir: tidyFlowCore.Rcheck Warnings: 0