Package: tidyFlowCore Version: 1.0.0 Command: /home/biocbuild/R/R/bin/R CMD build --keep-empty-dirs --no-resave-data tidyFlowCore StartedAt: 2025-02-04 03:31:15 -0000 (Tue, 04 Feb 2025) EndedAt: 2025-02-04 03:32:33 -0000 (Tue, 04 Feb 2025) EllapsedTime: 78.1 seconds RetCode: 0 Status: OK PackageFile: tidyFlowCore_1.0.0.tar.gz PackageFileSize: 690.1 KiB