Package: tidySingleCellExperiment
Version: 1.16.0
Command: rm -rf tidySingleCellExperiment.buildbin-libdir && mkdir tidySingleCellExperiment.buildbin-libdir && /Users/biocbuild/BBS/utils/build-universal.sh tidySingleCellExperiment_1.16.0.tar.gz /Library/Frameworks/R.framework/Resources/bin/R tidySingleCellExperiment.buildbin-libdir
StartedAt: 2025-02-19 17:25:33 -0500 (Wed, 19 Feb 2025)
EndedAt: 2025-02-19 17:26:10 -0500 (Wed, 19 Feb 2025)
EllapsedTime: 37.0 seconds
RetCode: 0
Status: OK
PackageFile: tidySingleCellExperiment_1.16.0.tgz
PackageFileSize: 2.084 <A href="http://en.wikipedia.org/wiki/MiB" target="_blank">MiB</A>