Package: tidySingleCellExperiment
Version: 1.16.0
Command: /home/biocbuild/R/R/bin/R CMD INSTALL tidySingleCellExperiment
StartedAt: 2024-11-19 21:02:44 -0000 (Tue, 19 Nov 2024)
EndedAt: 2024-11-19 21:03:22 -0000 (Tue, 19 Nov 2024)
EllapsedTime: 38.2 seconds
RetCode: 0
Status: OK