Package: tidySingleCellExperiment Version: 1.16.0 Command: chmod a+r tidySingleCellExperiment -R && F:\biocbuild\bbs-3.20-bioc\R\bin\R.exe CMD build --keep-empty-dirs --no-resave-data tidySingleCellExperiment StartedAt: 2025-02-03 22:36:08 -0500 (Mon, 03 Feb 2025) EndedAt: 2025-02-03 22:38:04 -0500 (Mon, 03 Feb 2025) EllapsedTime: 116.4 seconds RetCode: 0 Status: OK PackageFile: tidySingleCellExperiment_1.16.0.tar.gz PackageFileSize: 1.238 MiB