Package: tidySingleCellExperiment Version: 1.16.0 Command: /home/biocbuild/R/R/bin/R CMD build --keep-empty-dirs --no-resave-data tidySingleCellExperiment StartedAt: 2025-02-04 03:32:20 -0000 (Tue, 04 Feb 2025) EndedAt: 2025-02-04 03:34:08 -0000 (Tue, 04 Feb 2025) EllapsedTime: 108.2 seconds RetCode: 0 Status: OK PackageFile: tidySingleCellExperiment_1.16.0.tar.gz PackageFileSize: 1.361 MiB