Package: tidySpatialExperiment Version: 1.2.0 Command: rm -rf tidySpatialExperiment.buildbin-libdir && mkdir tidySpatialExperiment.buildbin-libdir && /Users/biocbuild/BBS/utils/build-universal.sh tidySpatialExperiment_1.2.0.tar.gz /Library/Frameworks/R.framework/Resources/bin/R tidySpatialExperiment.buildbin-libdir StartedAt: 2025-02-19 17:25:35 -0500 (Wed, 19 Feb 2025) EndedAt: 2025-02-19 17:26:12 -0500 (Wed, 19 Feb 2025) EllapsedTime: 36.9 seconds RetCode: 0 Status: OK PackageFile: tidySpatialExperiment_1.2.0.tgz PackageFileSize: 2.812 <A href="http://en.wikipedia.org/wiki/MiB" target="_blank">MiB</A>