Package: tidySpatialExperiment
Version: 1.2.0
Command: /Library/Frameworks/R.framework/Resources/bin/R CMD check --install=check:tidySpatialExperiment.install-out.txt --library=/Library/Frameworks/R.framework/Resources/library --no-vignettes --timings tidySpatialExperiment_1.2.0.tar.gz
StartedAt: 2024-11-20 03:24:47 -0500 (Wed, 20 Nov 2024)
EndedAt: 2024-11-20 03:32:02 -0500 (Wed, 20 Nov 2024)
EllapsedTime: 434.8 seconds
RetCode: 0
Status: OK
CheckDir: tidySpatialExperiment.Rcheck
Warnings: 0