Package: tidySpatialExperiment Version: 1.2.0 Command: /Library/Frameworks/R.framework/Resources/bin/R CMD check --install=check:tidySpatialExperiment.install-out.txt --library=/Library/Frameworks/R.framework/Resources/library --no-vignettes --timings tidySpatialExperiment_1.2.0.tar.gz StartedAt: 2025-02-04 11:16:14 -0500 (Tue, 04 Feb 2025) EndedAt: 2025-02-04 11:25:07 -0500 (Tue, 04 Feb 2025) EllapsedTime: 532.5 seconds RetCode: 0 Status: OK CheckDir: tidySpatialExperiment.Rcheck Warnings: 0