##############################################################################
##############################################################################
###
### Running command:
###
###   chmod a+r tidySummarizedExperiment -R && F:\biocbuild\bbs-3.20-bioc\R\bin\R.exe CMD build --keep-empty-dirs --no-resave-data tidySummarizedExperiment
###
##############################################################################
##############################################################################


* checking for file 'tidySummarizedExperiment/DESCRIPTION' ... OK
* preparing 'tidySummarizedExperiment':
* checking DESCRIPTION meta-information ... OK
* installing the package to process help pages
* creating vignettes ... OK
* checking for LF line-endings in source and make files and shell scripts
* checking for empty or unneeded directories
* building 'tidySummarizedExperiment_1.16.0.tar.gz'