Package: tidybulk Version: 1.18.0 Command: rm -rf tidybulk.buildbin-libdir && mkdir tidybulk.buildbin-libdir && F:\biocbuild\bbs-3.20-bioc\R\bin\R.exe CMD INSTALL --build --library=tidybulk.buildbin-libdir tidybulk_1.18.0.tar.gz StartedAt: 2025-02-04 09:40:29 -0500 (Tue, 04 Feb 2025) EndedAt: 2025-02-04 09:42:18 -0500 (Tue, 04 Feb 2025) EllapsedTime: 109.1 seconds RetCode: 0 Status: OK PackageFile: tidybulk_1.18.0.zip PackageFileSize: 3.298 MiB