Package: tidybulk Version: 1.18.0 Command: F:\biocbuild\bbs-3.20-bioc\R\bin\R.exe CMD check --no-multiarch --install=check:tidybulk.install-out.txt --library=F:\biocbuild\bbs-3.20-bioc\R\library --no-vignettes --timings tidybulk_1.18.0.tar.gz StartedAt: 2025-02-04 07:01:44 -0500 (Tue, 04 Feb 2025) EndedAt: 2025-02-04 07:13:32 -0500 (Tue, 04 Feb 2025) EllapsedTime: 708.0 seconds RetCode: 0 Status: OK CheckDir: tidybulk.Rcheck Warnings: 0