Package: tidybulk Version: 1.18.0 Command: /home/biocbuild/R/R/bin/R CMD INSTALL tidybulk StartedAt: 2025-02-03 20:56:46 -0000 (Mon, 03 Feb 2025) EndedAt: 2025-02-03 20:57:48 -0000 (Mon, 03 Feb 2025) EllapsedTime: 61.7 seconds RetCode: 0 Status: OK