Package: tidyomics Version: 1.2.0 Command: /Library/Frameworks/R.framework/Resources/bin/R CMD build --keep-empty-dirs --no-resave-data tidyomics StartedAt: 2025-02-04 09:43:34 -0500 (Tue, 04 Feb 2025) EndedAt: 2025-02-04 09:44:20 -0500 (Tue, 04 Feb 2025) EllapsedTime: 45.3 seconds RetCode: 0 Status: OK PackageFile: tidyomics_1.2.0.tar.gz PackageFileSize: 55.43 KiB