Package: tidyomics Version: 1.2.0 Command: /Library/Frameworks/R.framework/Resources/bin/R CMD check --install=check:tidyomics.install-out.txt --library=/Library/Frameworks/R.framework/Resources/library --no-vignettes --timings tidyomics_1.2.0.tar.gz StartedAt: 2025-02-01 11:55:25 -0500 (Sat, 01 Feb 2025) EndedAt: 2025-02-01 11:59:37 -0500 (Sat, 01 Feb 2025) EllapsedTime: 251.4 seconds RetCode: 0 Status: WARNINGS CheckDir: tidyomics.Rcheck Warnings: 1