Package: tidyomics Version: 1.2.0 Command: rm -rf tidyomics.buildbin-libdir && mkdir tidyomics.buildbin-libdir && /Users/biocbuild/BBS/utils/build-universal.sh tidyomics_1.2.0.tar.gz /Library/Frameworks/R.framework/Resources/bin/R tidyomics.buildbin-libdir StartedAt: 2024-11-20 04:55:40 -0500 (Wed, 20 Nov 2024) EndedAt: 2024-11-20 04:56:36 -0500 (Wed, 20 Nov 2024) EllapsedTime: 56.1 seconds RetCode: 0 Status: OK PackageFile: tidyomics_1.2.0.tgz PackageFileSize: 72.67 KiB